BEGIN:VCALENDAR
VERSION:2.0
PRODID:-//Birmingham Art Music Alliance - ECPv5.6.0//NONSGML v1.0//EN
CALSCALE:GREGORIAN
METHOD:PUBLISH
X-WR-CALNAME:Birmingham Art Music Alliance
X-ORIGINAL-URL:https://artmusic.org
X-WR-CALDESC:Events for Birmingham Art Music Alliance
BEGIN:VTIMEZONE
TZID:America/Chicago
BEGIN:DAYLIGHT
TZOFFSETFROM:-0600
TZOFFSETTO:-0500
TZNAME:CDT
DTSTART:20250309T080000
END:DAYLIGHT
BEGIN:STANDARD
TZOFFSETFROM:-0500
TZOFFSETTO:-0600
TZNAME:CST
DTSTART:20251102T070000
END:STANDARD
END:VTIMEZONE
BEGIN:VEVENT
DTSTART;TZID=America/Chicago:20251109T160000
DTEND;TZID=America/Chicago:20251109T173000
DTSTAMP:20260421T071719
CREATED:20251104T201936Z
LAST-MODIFIED:20251104T201936Z
UID:1900-1762704000-1762709400@artmusic.org
SUMMARY:Birmingham Art Music Alliance: 30th Anniversary Concert Series\, featuring cellist Craig Hultgren
DESCRIPTION:Hansell / Hulsey Center\, Hulsey Recital Hall\n950 13th Street South\, Birmingham\, AL 35233\nView map  | Free Event | Add to calendar  \n\n\nCraig Hultgren performs fresh repertoire for the cello\, representing directions in contemporary music from traditional to experimental\, acoustic to electronic\, and structured to improvisational. This concert commemorates the 30th Anniversary of the Birmingham Art Music Alliance\, in consideration of Hultgren’s significant role as a founder of the organization\, champion of Alabama composers\, and persistent activist for new music.\n\n\nShare this:Click to share on Facebook (Opens in new window)Click to share on Twitter (Opens in new window)
URL:https://artmusic.org/event/birmingham-art-music-alliance-30th-anniversary-concert-series-featuring-cellist-craig-hultgren/
LOCATION:UAB – Hulsey Recital Hall\, 950 13th Street South\, Birmingham\, AL\, 35233\, United States
ORGANIZER;CN="Birmingham%20Art%20Music%20Alliance":MAILTO:info@artmusic.org
END:VEVENT
END:VCALENDAR